BEGIN:VCALENDAR
VERSION:2.0
PRODID:-//dupagehealthmatters.org//NONSGML kigkonsult.se iCalcreator 2.30.1
 0//
CALSCALE:GREGORIAN
METHOD:PUBLISH
UID:bbe11dae-a753-4df9-80ef-43fbcd00e2bd
X-WR-CALDESC:Giving Tuesday happens every year on the first Tuesday after T
 hanksgiving.\nWhether it’s making someone smile\, helping a neighbor or st
 ranger out\, showing up for an issue or people we care about\, or giving s
 ome of what we have to those who need our help\, every act of generosity c
 ounts\, and everyone has something to give.
X-WR-RELCALID:b3f0f26d7be9177da0cda51586e9819b
X-WR-TIMEZONE:America/Chicago
BEGIN:VTIMEZONE
TZID:America/Chicago
BEGIN:STANDARD
TZNAME:CST
DTSTART:20251102T020000
TZOFFSETFROM:-0500
TZOFFSETTO:-0600
RDATE:20261101T020000
END:STANDARD
BEGIN:DAYLIGHT
TZNAME:CDT
DTSTART:20250309T020000
TZOFFSETFROM:-0600
TZOFFSETTO:-0500
RDATE:20260308T020000
RDATE:20270314T020000
END:DAYLIGHT
END:VTIMEZONE
BEGIN:VEVENT
UID:1d058c91-f6f6-4908-836c-90d91c6f3554
DTSTAMP:20260421T151933Z
DESCRIPTION:Giving Tuesday happens every year on the first Tuesday after Th
 anksgiving.\nWhether it’s making someone smile\, helping a neighbor or str
 anger out\, showing up for an issue or people we care about\, or giving so
 me of what we have to those who need our help\, every act of generosity co
 unts\, and everyone has something to give.
DTSTART;TZID=America/Chicago:20251202T050000
DTEND;TZID=America/Chicago:20251202T050001
LOCATION:https://dupagehealthmatters.org/news-events/newsroom.html
SUMMARY:Giving Tuesday
END:VEVENT
END:VCALENDAR
